BEGIN:VCALENDAR
VERSION:2.0
PRODID:-//wp-events-plugin.com//7.2.3.1//EN
TZID:Europe/Paris
X-WR-TIMEZONE:Europe/Paris
BEGIN:VEVENT
UID:9@creaq.org
DTSTART;TZID=Europe/Paris:20230210T110000
DTEND;TZID=Europe/Paris:20230210T130000
DTSTAMP:20230202T140620Z
URL:https://www.creaq.org/events/sensibilisation-etudiants-mon-1er-logemen
 t-4/
SUMMARY:Sensibilisation étudiants : mon 1er logement
DESCRIPTION:Accueil à bord de la Maison Eco-Mobile du CREAQ pour la sensib
 ilisation à destination des étudiants et des jeunes accédant à leur pr
 emier logement sur les thèmes des économies d'énergie et d'eau : le dé
 tail des consommations\, la compréhension des factures\, les écogestes e
 t petits matériels pour économiser chez soi. 
CATEGORIES:Stand
LOCATION:Place des capucins\, 15 rue Jules Guesde\, Bordeaux\, 33800\, Fran
 ce
GEO:44.829996;-0.565932
X-APPLE-STRUCTURED-LOCATION;VALUE=URI;X-ADDRESS=15 rue Jules Guesde\, Borde
 aux\, 33800\, France;X-APPLE-RADIUS=100;X-TITLE=Place des capucins:geo:44.
 829996,-0.565932
END:VEVENT
BEGIN:VTIMEZONE
TZID:Europe/Paris
X-LIC-LOCATION:Europe/Paris
BEGIN:STANDARD
DTSTART:20221030T020000
TZOFFSETFROM:+0200
TZOFFSETTO:+0100
TZNAME:CET
END:STANDARD
END:VTIMEZONE
END:VCALENDAR